BEGIN:VCALENDAR
VERSION:2.0
PRODID:-//Keep Tobacco Sacred - ECPv6.15.20//NONSGML v1.0//EN
CALSCALE:GREGORIAN
METHOD:PUBLISH
X-ORIGINAL-URL:https://www.keeptobaccosacred.ca
X-WR-CALDESC:Events for Keep Tobacco Sacred
REFRESH-INTERVAL;VALUE=DURATION:PT1H
X-Robots-Tag:noindex
X-PUBLISHED-TTL:PT1H
BEGIN:VTIMEZONE
TZID:America/Edmonton
BEGIN:DAYLIGHT
TZOFFSETFROM:-0700
TZOFFSETTO:-0600
TZNAME:MDT
DTSTART:20240310T090000
END:DAYLIGHT
BEGIN:STANDARD
TZOFFSETFROM:-0600
TZOFFSETTO:-0700
TZNAME:MST
DTSTART:20241103T080000
END:STANDARD
BEGIN:DAYLIGHT
TZOFFSETFROM:-0700
TZOFFSETTO:-0600
TZNAME:MDT
DTSTART:20250309T090000
END:DAYLIGHT
BEGIN:STANDARD
TZOFFSETFROM:-0600
TZOFFSETTO:-0700
TZNAME:MST
DTSTART:20251102T080000
END:STANDARD
BEGIN:DAYLIGHT
TZOFFSETFROM:-0700
TZOFFSETTO:-0600
TZNAME:MDT
DTSTART:20260308T090000
END:DAYLIGHT
BEGIN:STANDARD
TZOFFSETFROM:-0600
TZOFFSETTO:-0700
TZNAME:MST
DTSTART:20261101T080000
END:STANDARD
END:VTIMEZONE
BEGIN:VEVENT
DTSTART;TZID=America/Edmonton:20251028T083000
DTEND;TZID=America/Edmonton:20251029T143000
DTSTAMP:20260425T075141
CREATED:20250917T184955Z
LAST-MODIFIED:20250917T223542Z
UID:446-1761640200-1761748200@www.keeptobaccosacred.ca
SUMMARY:IT'S TIME Training
DESCRIPTION:Register now: October 2025 IT'S TIME Workshop!\n\nDate: October 28 & 29\, 2025\nTime: 8:30 a.m. – 4:30 p.m. (day 1) and 8:30 a.m. – 2:30 p.m. (day 2)\nVenue: Delta Calgary South (135 Southland Dr SE\, Calgary)\n\nIT’S TIME is a free 2-day workshop for wellness workers from communities across Treaty 6\, Treaty 7\, Treaty 8\, and the homeland of the Métis peoples. It focuses on culturally based ways to help people quit smoking commercial tobacco products (like cigarettes). \nWith support from guiding Elder Dr. Andrew Bear Robe\, participants at the workshop will: \n\nExplore the differences between sacred tobacco and commercial tobacco\nShare ways to help people quit or cut down on commercial tobacco\nLearn how wise practices can help people on a quit journey\nDiscover tools to adapt for local communities\n\nIf you’re interested in attending the IT’S TIME Workshop in fall 2025\, please email: tvcp@primarycarealberta.ca. Bursaries may be available to help cover the cost of travel\, hotel\, and food.
URL:https://www.keeptobaccosacred.ca/event/its-time-training/
LOCATION:Delta Calgary North\, 135 Southland Dr SE\, Calgary\, Alberta\, T2J 5X5\, Canada
ATTACH;FMTTYPE=image/jpeg:https://www.keeptobaccosacred.ca/wp-content/uploads/2025/01/its_time_event_graphic.jpg
END:VEVENT
END:VCALENDAR