BEGIN:VCALENDAR
VERSION:2.0
PRODID:-//Keep Tobacco Sacred - ECPv6.15.20//NONSGML v1.0//EN
CALSCALE:GREGORIAN
METHOD:PUBLISH
X-WR-CALNAME:Keep Tobacco Sacred
X-ORIGINAL-URL:https://www.keeptobaccosacred.ca
X-WR-CALDESC:Events for Keep Tobacco Sacred
REFRESH-INTERVAL;VALUE=DURATION:PT1H
X-Robots-Tag:noindex
X-PUBLISHED-TTL:PT1H
BEGIN:VTIMEZONE
TZID:America/Edmonton
BEGIN:DAYLIGHT
TZOFFSETFROM:-0700
TZOFFSETTO:-0600
TZNAME:MDT
DTSTART:20240310T090000
END:DAYLIGHT
BEGIN:STANDARD
TZOFFSETFROM:-0600
TZOFFSETTO:-0700
TZNAME:MST
DTSTART:20241103T080000
END:STANDARD
BEGIN:DAYLIGHT
TZOFFSETFROM:-0700
TZOFFSETTO:-0600
TZNAME:MDT
DTSTART:20250309T090000
END:DAYLIGHT
BEGIN:STANDARD
TZOFFSETFROM:-0600
TZOFFSETTO:-0700
TZNAME:MST
DTSTART:20251102T080000
END:STANDARD
BEGIN:DAYLIGHT
TZOFFSETFROM:-0700
TZOFFSETTO:-0600
TZNAME:MDT
DTSTART:20260308T090000
END:DAYLIGHT
BEGIN:STANDARD
TZOFFSETFROM:-0600
TZOFFSETTO:-0700
TZNAME:MST
DTSTART:20261101T080000
END:STANDARD
END:VTIMEZONE
BEGIN:VEVENT
DTSTART;TZID=America/Edmonton:20250929T080000
DTEND;TZID=America/Edmonton:20251002T170000
DTSTAMP:20260425T103434
CREATED:20241118T211714Z
LAST-MODIFIED:20250123T175755Z
UID:77-1759132800-1759424400@www.keeptobaccosacred.ca
SUMMARY:National Gathering of Elders Kanata
DESCRIPTION:The Gathering is the need for Elders throughout the Canada to have inter-social and community links that bind them together as a Nation. It allows them to intermingle with like-minded\, like-aged individuals and their families\, to reveal common grounds that strengthen those links. It will offer the opportunity to interface with youth\, which helps to mitigate the generation gap\, and allows the younger generations to demonstrate respect\, regard\, and honor for their Elders.
URL:https://www.keeptobaccosacred.ca/event/national-gathering-of-elders-kanata/
LOCATION:Edmonton Expo Centre\, 7515 118 Ave NW\, Edmonton\, AB\, T5B 0J2\, Canada
CATEGORIES:Featured
ATTACH;FMTTYPE=image/jpeg:https://www.keeptobaccosacred.ca/wp-content/uploads/2024/11/NGENICE2025.jpg
END:VEVENT
BEGIN:VEVENT
DTSTART;VALUE=DATE:20250729
DTEND;VALUE=DATE:20250801
DTSTAMP:20260425T103434
CREATED:20250328T193659Z
LAST-MODIFIED:20250328T193659Z
UID:575-1753747200-1754006399@www.keeptobaccosacred.ca
SUMMARY:2025 Youth Teepee Summit
DESCRIPTION:The Youth Teepee Summit brings together Indigenous youth from across the province to connect\, participate in cultural\, physical and educational activities\, and interact with inspirational Elders and speakers. \nThe mission of the Youth Teepee Summit is to empower Indigenous youth through connection\, culture and guidance from Elders\, speakers and facilitators. The Youth Teepee Summit is a gathering of many voices to share knowledge\, wisdom and experiences. \nThis summit is a hopeful and solution-oriented approach to empower our youth by moving forward reconciliation to reconcili-ACTION!
URL:https://www.keeptobaccosacred.ca/event/2025-youth-teepee-summit/
LOCATION:Northeast River Valley Event Centre\, 903 153 Ave NE\, Edmonton\, Alberta\, T5Y 6K8\, Canada
ATTACH;FMTTYPE=image/jpeg:https://www.keeptobaccosacred.ca/wp-content/uploads/2025/03/2025_teepee_summit_graphic.jpg
END:VEVENT
BEGIN:VEVENT
DTSTART;TZID=America/Edmonton:20250307T130000
DTEND;TZID=America/Edmonton:20250309T160000
DTSTAMP:20260425T103434
CREATED:20241118T211714Z
LAST-MODIFIED:20250307T192243Z
UID:84-1741352400-1741536000@www.keeptobaccosacred.ca
SUMMARY:Youth Empowerment Conference
DESCRIPTION:This event is free and open to all youth ages 8-18 and promises to be a weekend full of inspiration\, fun\, and growth! Whether you're looking to connect with others\, discover new passions\, or grow spiritually\, this conference has something for everyone.
URL:https://www.keeptobaccosacred.ca/event/youth-empowerment-conference/
LOCATION:Harry Collinge High School\, 158 Sunwapta Dr.\, Hinton\, Alberta\, Canada
ATTACH;FMTTYPE=image/jpeg:https://www.keeptobaccosacred.ca/wp-content/uploads/2024/11/youth_empowerment_conference.jpg
END:VEVENT
END:VCALENDAR